Workbook

Sheet ENTRY
A1: No. | B1: TEAM NAME | C1: Paid | D1: MANAGERS | E1: PHONE | F1: ADDRESS1 | G1: ADDRESS2 | H1: ADDRESS3 | I1: EMAIL | J1: RUNNER | N1: CANOE | R1: SWIM | V1: EQUESTRIAN | Z1: CYCLE | AD1: CAT | AE1: SIGN | AF1: EQUESTRIAN CLUB
B2: 44498 | J2: SURNAME | K2: AGE | L2: PHONE | M2: SIGN | N2: SURNAME | O2: AGE | P2: PHONE | Q2: SIGN | R2: SURNAME | S2: AGE | T2: PHONE | U2: SIGN | V2: SURNAME | W2: AGE | X2: PHONE | Y2: SIGN | Z2: SURNAME | AA2: AGE | AB2: PHONE | AC2: SIGN
A3: 2 | B3: RUSTY IRONMEN BLUE | C3: Y | D3: CLIVE CHOATE | E3: 0422124908 | F3: 16 KEPPEL MEWS | G3: HALLS HEAD | H3: WA 6210 | I3: choate@westnet.com.au | J3: JIM LANGFORD | K3: 77 | M3: Y | N3: MATT RITIKIS | O3: 57 | Q3: Y | R3: JUSTIN HARRIS | S3: 51 | U3: Y | V3: LINDA YATES | W3: 43 | Y3: Y | Z3: DAVE WHITELEY | AA3: 70 | AC3: Y | AD3: SV | AE3: Y
A4: 3 | B4: RUSTY IRONMEN RED | C4: Y | D4: CLIVE CHOATE | E4: 0422124908 | F4: 16 KEPPEL MEWS | G4: HALLS HEAD | H4: WA 6210 | I4: choate@westnet.com.au | J4: BILL WHALLEY | K4: 66 | M4: Y | N4: JOHN REYNOLDS | O4: 64 | Q4: Y | R4: SHAYNE ISBISTER | U4: Y | V4: NE | Z4: STUART GEE | AA4: 64 | AC4: Y | AD4: SV | AE4: Y
A5: 4 | B5: RUSTY IRONMEN GREEN | C5: Y | D5: CLIVE CHOATE | E5: 0422124908 | F5: 16 KEPPEL MEWS | G5: HALLS HEAD | H5: WA 6210 | I5: choate@westnet.com.au | J5: JOSH CAMPBELL | K5: 15 | M5: YY | N5: JOE FORD | Q5: Y | R5: SHAWNY NORRIS | S5: 20 | U5: Y | V5: STEPH COOTE | Y5: Y | Z5: TIM HOWLEY | AC5: Y | AD5: OP | AE5: Y
A6: 5 | B6: 50 IS THE NEW 30 | C6: Y | D6: LINDA VOWLES | E6: 0417588651 | F6: PO BOX1020 | G6: BRIDGETOWN | H6: WA 6255 | I6: wheelerjane29@gmail.com | J6: DAVINA DEAN | K6: 40 | L6: 0466578657 | M6: Y | N6: ALISON WHEATLEY | O6: 61 | P6: 0427617507 | Q6: Y | R6: JEN CASOTTI | S6: 47 | T6: 0419048741 | U6: Y | V6: SAM MARTIN | W6: 49 | Y6: Y | Z6: BEV SZOLKOWSKI | AA6: 64 | AC6: Y | AD6: SL | AE6: Y
A7: 6 | B7: RUSTY IRONMEN PURPLE | C7: Y | D7: CLIVE CHOATE | E7: 0422124908 | F7: 16 KEPPEL MEWS | G7: HALLS HEAD | H7: WA 6210 | I7: choate@westnet.com.au | J7: ADAM BRENNER | K7: 43 | M7: Y | N7: ALAN HALL | O7: 50 | Q7: Y | R7: SHANNON BRENNER | S7: 38 | U7: Y | V7: GEORGIE URKKO | Y7: Y | Z7: MARTY WALLACE | AC7: Y | AD7: OP | AE7: Y
A8: 7 | B8: GEEGEELUP RACERS | D8: MICK DEWING | E8: 041790398 | F8: PO BOX 257 | G8: BRIDGETOWN | H8: WA 6255 | I8: mdewing@iinet.net.au | J8: JOEL BARKER | K8: 39 | L8: 0400975884 | M8: Y | N8: MICK DEWING | O8: 71 | P8: 0417903987 | Q8: Y | R8: JOHN MONCRIEFF | S8: 70 | T8: 0432105754 | U8: Y | V8: KEELY ANGEL | W8: 21 | X8: 97612215 | Y8: Y | Z8: MIKE VAN DUIJNHOVEN | AA8: 73 | AB8: 0428327366 | AC8: Y | AD8: OP | AE8: Y
A9: 8 | B9: HAVANA CLUB | C9: Y | D9: GLEN HOLST | E9: 0419850643 | F9: PO BOX 120 | G9: BRIDGETOWN | H9: WA 6255 | I9: admin@glenholst.com.au | J9: CALLUM MacNISH | K9: 31 | L9: 0401404585 | M9: Y | N9: GLEN HOLST | O9: 60 | P9: 0419850643 | Q9: Y | R9: ANDREW MACNISH | S9: 56 | T9: 0408810444 | U9: Y | V9: EMMA PANIZZA | W9: 33 | X9: 0428740442 | Y9: Y | Z9: CLAUDE QUINONES | AA9: 63 | AB9: 0417971963 | AC9: Y | AD9: OP | AE9: Y
A10: 9 | B10: SMASHING KREBS | C10: Y | D10: DAVID FIELD | E10: 0417173549 | F10: PO BOX 811 | G10: BRIDGETOWN | H10: WA 6255 | I10: dfphysio@bigpond.net.au | J10: DAVID FIELD | K10: 49 | L10: 0417173549 | M10: Y | N10: TIM MULCAHY | O10: 48 | P10: 0418489710 | Q10: Y | R10: JOHANNA VAN ROOYEN | S10: 49 | T10: 0414854864 | U10: Y | V10: NE | Z10: MIKE HOAR | AA10: 48 | AB10: 0408011667 | AC10: Y | AD10: VE | AE10: Y
A11: 10 | B11: RUSTY IRONMEN GOLD | C11: Y | D11: CLIVE CHOATE | E11: 0422124908 | F11: 16 KEPPEL MEWS | G11: HALLS HEAD | H11: WA 6210 | I11: choate@westnet.com.au | J11: ROSS LANGFORD | K11: 43 | M11: Y | N11: PAUL DEVONPORT | O11: 53 | Q11: Y | R11: LYLE KILDEA | S11: 63 | U11: Y | V11: MARK HAY | W11: 62 | Y11: Y | Z11: DAVE KENNEDY | AC11: Y | AD11: VE | AE11: Y
A12: 11 | B12: FIVE ABREAST | C12: Y | D12: DIANNE HOLLETT | E12: 0431184436 | F12: PO BOX 249 | G12: BRIDGETOWN | H12: WA 6255 | I12: bigholl@westnet.com.au | J12: DIANE HOLLETT | K12: 58 | L12: 0431184436 | M12: Y | N12: LYN WHITNEY | O12: 64 | P12: 97611238 | Q12: Y | R12: KYLIE ENGLISH | S12: 54 | U12: Y | V12: VIKTORIA CHLAPIK | W12: 38 | X12: 0499143219 | Y12: Y | Z12: RENEE WALLACE | AC12: Y | AD12: SL | AE12: Y | AF12: Y
A13: 12 | B13: GIDDYUP | C13: Y | D13: DAWN PENNEY | E13: 0497577849 | F13: 145 SHAKESPEARE AVE | G13: YOKIINE | H13: WA 6060 | I13: dawn.penney@westnet.com.au | J13: DAWN PENNEY | K13: 54 | L13: 0497577849 | M13: Y | N13: LARRY ODGERS | O13: 69 | P13: 0448798716 | Q13: Y | R13: DAWN PENNEY | S13: 54 | T13: 0497577849 | U13: Y | V13: NICOLA JOHNSON | W13: 43 | X13: '0402680883 | Y13: Y | Z13: DAWN PENNEY | AA13: 54 | AB13: 0497577849 | AC13: Y | AD13: SV | AE13: Y
A14: 13 | B14: BUSSELTON FAST FEMMES | C14: Y | D14: JO HARRISON-WARD | E14: 0487831386 | F14: PO BOX 35 | G14: BUSSELTON | H14: WA 6280 | I14: joharrisonward@gmail.com | J14: ANGELA HOMANN | K14: 46 | L14: 0435071286 | M14: Y | N14: ANGELA HOMANN | O14: 46 | P14: 0435071286 | Q14: Y | R14: AMBER BEE | S14: 43 | T14: 0488911572 | U14: Y | V14: STACEY ETHERIDGE | W14: 36 | X14: 043955187 | Y14: Y | Z14: DONNA STEPHENSON | AC14: Y | AD14: LV | AE14: Y
A15: 14 | B15: MONGER MONGRELS | C15: Y | D15: DEAN ZEC | E15: 04248600761 | F15: 1/74-78 CORBETT ST | G15: SCARBOROUGH | H15: WA 6019 | I15: deanzec@hotmail.com | J15: STEVE PREECE | K15: 52 | L15: 04271300008 | M15: Y | N15: SCOTT WOOLDRIDGE | O15: 54 | P15: 0424813680 | Q15: Y | R15: DEAN ZEC | S15: 54 | T15: 0428600761 | U15: Y | V15: NE | Z15: ROB DE LAETER | AA15: 52 | AC15: Y | AD15: VE | AE15: Y
A16: 15 | B16: HA HA | C16: Y | D16: ELLA ADAMS | E16: 0477477207 | F16: 15 KINGSLAND AVENUE | G16: CITY BEACH | H16: WA 6015 | I16: eradams03@gmail.com | J16: TILLY HOWARDS-EVANS | K16: 14 | M16: YY | N16: SIMON ADAMS | O16: 51 | Q16: Y | R16: ELLA ADAMS | S16: 18 | U16: Y | V16: NE | Z16: JACK ADAMS | AA16: 20 | AC16: Y | AD16: OP | AE16: Y
A17: 16 | B17: AMELIA PARK | C17: Y | D17: HANNAH MATTHEWS | E17: 0400792958 | F17: 357 ICALOORUP ROAD | G17: VASSE | H17: WA 6280 | I17: hannahmatthews19@gmail.com | J17: MURRAY SCOTT | K17: 39 | L17: 0437288016 | M17: Y | N17: JESSE BYRNE | Q17: Y | R17: HANNAH MATTHEWS | S17: 28 | T17: 0400792958 | U17: Y | V17: SARAH BROWN | W17: 35 | X17: 0438851068 | Y17: Y | Z17: TIM HEWITT | AA17: 40 | AB17: 0438851068 | AC17: Y | AD17: OP | AE17: Y
A18: 17 | B18: FIVE ALIVE | C18: Y | D18: KATHRYN KNOLL | E18: 0428428705 | F18: PO BOX 596 | G18: DONNYBROOK | H18: WA 6239 | I18: knollcando@westnet.com.au | J18: WENDY THORNHILL | K18: 44 | L18: 0498938375 | M18: Y | N18: PETER LIDDLE | O18: 62 | P18: 0466136652 | Q18: Y | R18: BRENDON BUNNING | S18: 65 | T18: 0458224230 | U18: Y | V18: KATHRYN KNOLL | W18: 54 | X18: 0427427705 | Y18: Y | Z18: LEIGHTON KNOLL | AA18: 60 | AB18: 0427427705 | AC18: Y | AD18: SV | AE18: Y
A19: 18 | B19: JITTERBUG | C19: Y | D19: NEALE PIKE | E19: 0409011783 | F19: PO BOX 117 | G19: COWARAMUP | H19: WA 6284 | I19: neale.pike@gmail.com | J19: NEALE PIKE | K19: 39 | L19: 0409011783 | M19: Y | N19: JOEL QUARTEMAINE | Q19: Y | R19: TIMOTHY BYCROFT | S19: 37 | T19: 0422475103 | U19: Y | V19: LIBBY FINLAYSON | W19: 45 | X19: 0407727703 | Z19: BERNARD WEARDEN | AA19: 32 | AB19: 0404645415 | AC19: Y | AD19: OP
A20: 19 | B20: RIVER RATS | C20: Y | D20: ANDREW WHITTELL | E20: 0409376359 | F20: 10 SPARROW CRES | G20: BUSSELTON | H20: WA 6280 | I20: busolaserman@gmail.com | J20: RICK WARD | K20: 72 | L20: 0419796080 | M20: Y | N20: LEONARD CHRISTIE | O20: 67 | P20: 0435933956 | Q20: Y | R20: DARRYL KELLY | S20: 70 | T20: 0419046579 | U20: Y | V20: NE | Z20: ANDREW WHITTELL | AA20: 68 | AB20: 0409376359 | AC20: Y | AD20: SV | AE20: Y
A21: 20 | B21: DOGS OF WAR | C21: Y | D21: JUSTIN KELLY | E21: 0439414882 | F21: 12 ALISON RD | G21: ATTADALE | H21: WA 6156 | I21: justin.kelly@woodgroup.com | J21: JUSTIN KELLY | K21: 41 | L21: 0439414882 | M21: Y | N21: JAMES RHYS | O21: 42 | P21: 0449231345 | Q21: Y | R21: KIM STANES | S21: 41 | T21: 0425625680 | U21: Y | V21: NE | Z21: ALEXANDER LOCKETT | AA21: 42 | AB21: 0475513203 | AC21: Y | AD21: VE | AE21: Y
A22: 21 | B22: RUSTY IRONMEN ORANGE | C22: Y | D22: CLIVE CHOATE | E22: 0422124908 | F22: 16 KEPPEL MEWS | G22: HALLS HEAD | H22: WA 6210 | I22: choate@westnet.com.au | J22: STEPHEN GARNER | M22: Y | N22: JAKE WILLIAMS | Q22: Y | R22: PETER BEYER | U22: Y | V22: NE | Z22: CHRIS BOYLE | AC22: Y | AD22: OP
A23: 22 | B23: WEST BRIDGETOWN WARRIORS 2 | D23: FRAN LONGO | E23: 0450656370 | F23: 3 KYBRA COURT | G23: BROOME | H23: WA | I23: francielongo@hotmail.com | J23: PHIL SMITH | L23: 0490922047 | N23: SCOTT GAMBLE | O23: 50 | P23: 0421499713 | R23: LEON BERTHELSEN | S23: 45 | T23: 0408081566 | V23: FRANCES LONGO | W23: 38 | X23: 0450656370 | Y23: Y | Z23: PHIL SMITH | AA23: 40 | AB23: 0410442376 | AD23: OP | AE23: Y
A24: 23 | B24: WEST BRIDGETOWN WARRIORS 3 | C24: Y | D24: SHAYNE CARTER | E24: 0400886576 | F24: PO BOX 611 | G24: CAPEL | H24: WA 6271 | I24: jsrcarter@live.com.au | J24: ANDREW HAAK | K24: 43 | L24: 0402036570 | M24: Y | N24: LLOYD POWELL | O24: 53 | P24: 0414476015 | Q24: Y | R24: DAVID MOYES | S24: 57 | T24: 0430886576 | U24: Y | V24: SHAYNE CARTER | W24: 33 | X24: 0400886576 | Y24: Y | Z24: KIRSTY FLWEMING | AA24: 50 | AB24: 0439769464 | AC24: Y | AD24: OP | AE24: Y
A25: 24 | B25: WEST BRIDGETOWN WARRIORS 4 | C25: Y | D25: SARAH YOUNGSON | E25: 97612741 | F25: PO BOX 1201 | G25: BRIDGETOWN | H25: WA 6255 | I25: sarah.youngson@westnet.com.au | J25: SARAH YOUNGSON | K25: 48 | L25: 0421068854 | M25: Y | N25: ANGUS YOUNGSON | O25: 58 | P25: 0416241633 | Q25: Y | R25: CAROLINE CRISP | S25: 60 | T25: 0402270690 | U25: Y | V25: NE | Z25: MAX JENSEN | AA25: 67 | AB25: 0418542400 | AC25: Y | AD25: SV | AE25: Y
A26: 25 | B26: WEST BRIDGETOWN WARRIORS 5 | C26: Y | D26: ANDREA HEWITT | E26: 0424254984 | F26: 10 HOBBS AVE | G26: DALKEITH | H26: WA 6009 | I26: andrea.cussons@gmail.com | J26: ANDREA HEWITT | K26: 48 | L26: 0424254984 | M26: Y | N26: MAREE AINSWORTH | O26: 59 | P26: 0419914161 | Q26: Y | R26: SHARON GARDNER | S26: 47 | T26: 0417902096 | U26: Y | V26: JESSICA FLYNN-MEYER | W26: 47 | X26: 0498399491 | Y26: Y | Z26: NIC FABISZAK | AA26: 49 | AB26: 0478616802 | AC26: Y | AD26: SL
A27: 26 | B27: WEST BRIDGETOWN WARRIORS 6 | C27: Y | D27: JODY MOYES | E27: 0438295288 | F27: PO BOX 524 | G27: DUNSBOROUGH | H27: WA 6281 | I27: jody@privateproperties.com.au | J27: CLARE FAZACKERLEY | K27: 57 | M27: Y | N27: STEPHANIE HIGGINS | O27: 54 | P27: 0411737594 | R27: OLA CLARKE | S27: 24 | T27: 0400196564 | U27: Y | V27: TARA GARDNER | W27: 39 | X27: 0406097526 | Y27: Y | Z27: JODY MOYES | AA27: 57 | AB27: 0438295288 | AC27: Y | AD27: WO | AE27: Y
A28: 27 | B28: AVERAGE JOES | C28: Y | D28: KATIE HETHERINGTON | E28: 0447840667 | F28: 15B CHAPMAN RD | G28: ST JAMES | H28: WA 6102 | I28: kjhether@hotmail.com | J28: KATIE HETHERINGTON | K28: 28 | L28: 0447840667 | M28: Y | N28: CORAN LONGWOOD | O28: 26 | P28: 0478532383 | Q28: Y | R28: CHLOE HOPKINSON | S28: 22 | T28: 0431391086 | V28: CLARE MARK | W28: 54 | X28: 97612818 | Z28: CALLUM PROUD | AA28: 22 | AB28: 0499096642 | AD28: OP | AE28: Y
A29: 28 | B29: ROCKINGHAM RAMBLERS | C29: Y | D29: MAREE STIRLING | E29: 0420330244 | F29: 10 CARNAC ST | G29: FREMANTLE | H29: WA 6160 | I29: burkeanderson1@gmail.com | J29: MAREE STIRLING | K29: 58 | L29: 0420330244 | M29: Y | N29: WAYNE POULSEN | O29: 69 | P29: 0410900234 | R29: REBEKAH ASHBY | S29: 60 | T29: 0415110572 | U29: Y | V29: NE | Z29: SCOTT ANDERSON | AA29: 63 | AB29: 0411225600 | AC29: Y | AD29: SV | AE29: Y | AL29: Kelmscott Adult Riders
A30: 29 | B30: UNSERIOUSNESS | C30: Y | D30: LAUREN HOSSELL | E30: 0407072696 | F30: 7 PARK CLOSE | G30: GREENWOOD | H30: WA 6024 | I30: laurenmhossell@gmail.com | J30: ALANA PATISON | K30: 42 | L30: 0415772235 | M30: Y | N30: ROBERT HOSSELL | O30: 48 | P30: 0407187441 | Q30: Y | R30: LAUREN HOSSELL | S30: 38 | T30: 0407072696 | U30: Y | V30: ASHLEE CHAPMAN | W30: 14 | Z30: STUART PEARCE | AA30: 44 | AB30: 0438920074 | AC30: Y | AD30: OP | AE30: Y
A31: 30 | B31: LABOR OF LOVE | C31: Y | D31: JANE KELSBIE | E31: 0428245303 | F31: 14 HEATHER RD | G31: OCEAN BEACH | H31: WA 6333 | I31: Jane.Kelsbie@mp.wa.gov.au | J31: RANEE WILSON | K31: 57 | N31: MILLY HENDERSON-MOTT | O31: 16 | R31: JANE KELSBIE | S31: 55 | U31: Y | V31: NE | Z31: UNDA WIGLEY | AA31: 50 | AD31: VE | AE31: Y
A32: 31 | B32: BUSSELTON MASTERS MARRONS | C32: Y | D32: JO HARRISON-WARD | E32: 0487831386 | F32: PO BOX 35 | G32: BUSSELTON | H32: WA 6280 | I32: joharrisonward@gmail.com | J32: CAROLYN SCOTT | M32: Y | N32: PETER PAVLINOVICH | O32: 53 | P32: 0416082759 | R32: ROD SIMMONDS | S32: 71 | T32: 0429117516 | V32: NE | Z32: TODD TAYLOR | AA32: 49 | AB32: 0481161881 | AD32: SV | AE32: Y
A33: 32 | B33: LUNACHICKS | D33: KATE MARTIN | E33: 0421028730 | F33: 150 SMITH ROAD | G33: BULLSBROOK | H33: WA 6080 | I33: kathera@hotmail.com | J33: SAM HUMBERSTONE | K33: 40 | L33: 0433088383 | M33: Y | N33: KATE MARTIN | O33: 40 | P33: 0421028730 | Q33: Y | R33: KATE MARTIN | S33: 40 | T33: 0421028730 | U33: Y | V33: ANN-MAREE WASLEY | W33: 38 | X33: 0422894919 | Y33: Y | Z33: SAM HUMBERSTONE | AA33: 40 | AB33: 0433088383 | AC33: Y | AD33: WO | AE33: Y
A34: 33 | B34: RUSTY IRONMEN PINK | C34: Y | D34: CLIVE CHOATE | E34: 0422124908 | F34: 16 KEPPEL MEWS | G34: HALLS HEAD | H34: WA 6210 | I34: choate@westnet.com.au | J34: SHARON DAVIS | K34: 48 | M34: Y | N34: MELISSA MARTYN | O34: 52 | Q34: Y | R34: RHIANNON JAMES | S34: 48 | U34: Y | V34: NE | Z34: JANE THOMAS | AA34: 59 | AC34: Y | AD34: SL | AE34: Y
A35: 34 | B35: RUSTY IRONMEN SILVER | C35: Y | D35: CLIVE CHOATE | E35: 0422124908 | F35: 16 KEPPEL MEWS | G35: HALLS HEAD | H35: WA 6210 | I35: choate@westnet.com.au | J35: NICKI WHITE | K35: 57 | M35: Y | N35: ANN SMITHSON | O35: 52 | Q35: Y | R35: SARAH CAMPBELL | S35: 49 | U35: Y | V35: KIM PIPER | W35: 45 | Y35: Y | Z35: SUSIE SINGH | AA35: 59 | AC35: Y | AD35: SL | AE35: Y
A36: 35 | B36: RUSTY IRONMEN MAGENTA | C36: Y | D36: CLIVE CHOATE | E36: 0422124908 | F36: 16 KEPPEL MEWS | G36: HALLS HEAD | H36: WA 6210 | I36: choate@westnet.com.au | J36: PETER THOMAS | K36: 50 | N36: PETER FERGIE | O36: 70 | Q36: Y | R36: PETER THOMAS | S36: 50 | U36: Y | V36: NE | Z36: GARRY ITZSTEIN | AA36: 62 | AC36: Y | AD36: SV | AE36: Y
A37: 36 | B37: RUSTY IRONMEN BURGUNDY | C37: Y | D37: CLIVE CHOATE | E37: 0422124908 | F37: 16 KEPPEL MEWS | G37: HALLS HEAD | H37: WA 6210 | I37: choate@westnet.com.au | J37: JIMENA TARACENA | K37: 47 | M37: Y | N37: DANIEL BINGHAM | Q37: Y | R37: STEVE WISEMAN | S37: 66 | U37: Y | V37: NE | Z37: JOHN REYBURN | AA37: 58 | AC37: Y | AD37: SV | AE37: Y
A38: 37 | B38: BUSSELTON MASTERS DUGONGS | C38: Y | D38: JO HARRISON-WARD | E38: 0487831386 | F38: PO BOX 35 | G38: BUSSELTON | H38: WA 6280 | I38: joharrisonward@gmail.com | J38: BRIAN RABAUD | K38: 86 | L38: 0417946886 | M38: Y | N38: ANDREW STEPHENSON | O38: 60 | P38: 0402269185 | Q38: Y | R38: RUSSELL BISHOP | U38: Y | V38: NE | Z38: ANDREW STEPHENSON | AB38: 0428468881 | AC38: Y | AD38: SV | AE38: Y
A39: 38 | B39: FRISKY MIDGET | C39: Y | D39: ANDREW HIGHET | E39: 0429067714 | F39: 54 SAMSON ST | G39: MOSMAN PARK | H39: WA 6012 | I39: drhighet@gmail.com | J39: KATE INGRAM | K39: 54 | L39: 0422096040 | M39: Y | N39: GREG HOGAN | O39: 54 | P39: 0412382426 | Q39: Y | R39: JASON HUNT | S39: 50 | T39: 0420662160 | U39: Y | V39: NE | Z39: ANDREW HIGHET | AA39: 52 | AB39: 0429067714 | AC39: Y | AD39: VE | AE39: Y
A40: 39 | B40: ROCKET AND GROOT | C40: Y | D40: DONNA WILLIAMSON | E40: 0402136019 | F40: 3 TAME CLOSE | G40: DENMARK | H40: WA 6333 | I40: donna_williamson@dodo.com.au | J40: JORJA WILLIAMSON | K40: 19 | L40: 0484872723 | M40: Y | N40: SAM WILLIAMSON | O40: 24 | P40: 0432578667 | Q40: Y | R40: JORJA WILLIAMSON | S40: 19 | T40: 0484872723 | U40: Y | V40: NE | Z40: SAM WILLIAMSON | AA40: 24 | AB40: 0432578667 | AC40: Y | AD40: OP | AE40: Y
...

Sheet WEB
A1: NO | B1: TEAM NAME | C1: Sect | D1: RUNNER | E1: CANOEIST | F1: SWIMMER | G1: EQUESTRIAN | H1: CYCLIST
B2: =ENTRY!B2 -> 44498
A3: =ENTRY!A3 -> 2 | B3: =ENTRY!B3 -> RUSTY IRONMEN BLUE | C3: =ENTRY!AD3 -> SV | D3: =ENTRY!J3 -> JIM LANGFORD | E3: =ENTRY!N3 -> MATT RITIKIS | F3: =ENTRY!R3 -> JUSTIN HARRIS | G3: =ENTRY!V3 -> LINDA YATES | H3: =ENTRY!Z3 -> DAVE WHITELEY
A4: =ENTRY!A4 -> 3 | B4: =ENTRY!B4 -> RUSTY IRONMEN RED | C4: =ENTRY!AD4 -> SV | D4: =ENTRY!J4 -> BILL WHALLEY | E4: =ENTRY!N4 -> JOHN REYNOLDS | F4: =ENTRY!R4 -> SHAYNE ISBISTER | G4: =ENTRY!V4 -> NE | H4: =ENTRY!Z4 -> STUART GEE
A5: =ENTRY!A5 -> 4 | B5: =ENTRY!B5 -> RUSTY IRONMEN GREEN | C5: =ENTRY!AD5 -> OP | D5: =ENTRY!J5 -> JOSH CAMPBELL | E5: =ENTRY!N5 -> JOE FORD | F5: =ENTRY!R5 -> SHAWNY NORRIS | G5: =ENTRY!V5 -> STEPH COOTE | H5: =ENTRY!Z5 -> TIM HOWLEY
A6: =ENTRY!A6 -> 5 | B6: =ENTRY!B6 -> 50 IS THE NEW 30 | C6: =ENTRY!AD6 -> SL | D6: =ENTRY!J6 -> DAVINA DEAN | E6: =ENTRY!N6 -> ALISON WHEATLEY | F6: =ENTRY!R6 -> JEN CASOTTI | G6: =ENTRY!V6 -> SAM MARTIN | H6: =ENTRY!Z6 -> BEV SZOLKOWSKI
A7: =ENTRY!A7 -> 6 | B7: =ENTRY!B7 -> RUSTY IRONMEN PURPLE | C7: =ENTRY!AD7 -> OP | D7: =ENTRY!J7 -> ADAM BRENNER | E7: =ENTRY!N7 -> ALAN HALL | F7: =ENTRY!R7 -> SHANNON BRENNER | G7: =ENTRY!V7 -> GEORGIE URKKO | H7: =ENTRY!Z7 -> MARTY WALLACE
A8: =ENTRY!A8 -> 7 | B8: =ENTRY!B8 -> GEEGEELUP RACERS | C8: =ENTRY!AD8 -> OP | D8: =ENTRY!J8 -> JOEL BARKER | E8: =ENTRY!N8 -> MICK DEWING | F8: =ENTRY!R8 -> JOHN MONCRIEFF | G8: =ENTRY!V8 -> KEELY ANGEL | H8: =ENTRY!Z8 -> MIKE VAN DUIJNHOVEN
A9: =ENTRY!A9 -> 8 | B9: =ENTRY!B9 -> HAVANA CLUB | C9: =ENTRY!AD9 -> OP | D9: =ENTRY!J9 -> CALLUM MacNISH | E9: =ENTRY!N9 -> GLEN HOLST | F9: =ENTRY!R9 -> ANDREW MACNISH | G9: =ENTRY!V9 -> EMMA PANIZZA | H9: =ENTRY!Z9 -> CLAUDE QUINONES
A10: =ENTRY!A10 -> 9 | B10: =ENTRY!B10 -> SMASHING KREBS | C10: =ENTRY!AD10 -> VE | D10: =ENTRY!J10 -> DAVID FIELD | E10: =ENTRY!N10 -> TIM MULCAHY | F10: =ENTRY!R10 -> JOHANNA VAN ROOYEN | G10: =ENTRY!V10 -> NE | H10: =ENTRY!Z10 -> MIKE HOAR
A11: =ENTRY!A11 -> 10 | B11: =ENTRY!B11 -> RUSTY IRONMEN GOLD | C11: =ENTRY!AD11 -> VE | D11: =ENTRY!J11 -> ROSS LANGFORD | E11: =ENTRY!N11 -> PAUL DEVONPORT | F11: =ENTRY!R11 -> LYLE KILDEA | G11: =ENTRY!V11 -> MARK HAY | H11: =ENTRY!Z11 -> DAVE KENNEDY
A12: =ENTRY!A12 -> 11 | B12: =ENTRY!B12 -> FIVE ABREAST | C12: =ENTRY!AD12 -> SL | D12: =ENTRY!J12 -> DIANE HOLLETT | E12: =ENTRY!N12 -> LYN WHITNEY | F12: =ENTRY!R12 -> KYLIE ENGLISH | G12: =ENTRY!V12 -> VIKTORIA CHLAPIK | H12: =ENTRY!Z12 -> RENEE WALLACE
A13: =ENTRY!A13 -> 12 | B13: =ENTRY!B13 -> GIDDYUP | C13: =ENTRY!AD13 -> SV | D13: =ENTRY!J13 -> DAWN PENNEY | E13: =ENTRY!N13 -> LARRY ODGERS | F13: =ENTRY!R13 -> DAWN PENNEY | G13: =ENTRY!V13 -> NICOLA JOHNSON | H13: =ENTRY!Z13 -> DAWN PENNEY
A14: =ENTRY!A14 -> 13 | B14: =ENTRY!B14 -> BUSSELTON FAST FEMMES | C14: =ENTRY!AD14 -> LV | D14: =ENTRY!J14 -> ANGELA HOMANN | E14: =ENTRY!N14 -> ANGELA HOMANN | F14: =ENTRY!R14 -> AMBER BEE | G14: =ENTRY!V14 -> STACEY ETHERIDGE | H14: =ENTRY!Z14 -> DONNA STEPHENSON
... A133: =ENTRY!A133 -> 0 | B133: =ENTRY!B133 -> 0 | C133: =ENTRY!AD133 -> 0 | D133: =ENTRY!J133 -> 0 | E133: =ENTRY!N133 -> 0 | F133: =ENTRY!R133 -> 0 | G133: =ENTRY!V133 -> 0 | H133: =ENTRY!Z133 -> 0
A134: =ENTRY!A133 -> 0 | B134: =ENTRY!B133 -> 0 | C134: =ENTRY!AD133 -> 0 | D134: =ENTRY!J133 -> 0 | E134: =ENTRY!N133 -> 0 | F134: =ENTRY!R133 -> 0 | G134: =ENTRY!V133 -> 0 | H134: =ENTRY!Z133 -> 0
A135: =ENTRY!A134 -> 0 | B135: =ENTRY!B134 -> 0 | C135: =ENTRY!AD134 -> 0 | D135: =ENTRY!J134 -> 0 | E135: =ENTRY!N134 -> 0 | F135: =ENTRY!R134 -> 0 | G135: =ENTRY!V134 -> 0 | H135: =ENTRY!Z134 -> 0
A136: =ENTRY!A135 -> 0 | B136: =ENTRY!B135 -> 0 | C136: =ENTRY!AD135 -> 0 | D136: =ENTRY!J135 -> 0 | E136: =ENTRY!N135 -> 0 | F136: =ENTRY!R135 -> 0 | G136: =ENTRY!V135 -> 0 | H136: =ENTRY!Z135 -> 0
A137: =ENTRY!A136 -> 0 | B137: =ENTRY!B136 -> 0 | C137: =ENTRY!AD136 -> 0 | D137: =ENTRY!J136 -> 0 | E137: =ENTRY!N136 -> 0 | F137: =ENTRY!R136 -> 0 | G137: =ENTRY!V136 -> 0 | H137: =ENTRY!Z136 -> 0
A138: =ENTRY!A137 -> 0 | B138: =ENTRY!B137 -> 0 | C138: =ENTRY!AD137 -> 0 | D138: =ENTRY!J137 -> 0 | E138: =ENTRY!N137 -> 0 | F138: =ENTRY!R137 -> 0 | G138: =ENTRY!V137 -> 0 | H138: =ENTRY!Z137 -> 0
A139: =ENTRY!A138 -> 0 | B139: =ENTRY!B138 -> 0 | C139: =ENTRY!AD138 -> 0 | D139: =ENTRY!J138 -> 0 | E139: =ENTRY!N138 -> 0 | F139: =ENTRY!R138 -> 0 | G139: =ENTRY!V138 -> 0 | H139: =ENTRY!Z138 -> 0
A140: =ENTRY!A139 -> 0 | B140: =ENTRY!B139 -> 0 | C140: =ENTRY!AD139 -> 0 | D140: =ENTRY!J139 -> 0 | E140: =ENTRY!N139 -> 0 | F140: =ENTRY!R139 -> 0 | G140: =ENTRY!V139 -> 0 | H140: =ENTRY!Z139 -> 0
A141: =ENTRY!A140 -> 0 | B141: =ENTRY!B140 -> 0 | C141: =ENTRY!AD140 -> 0 | D141: =ENTRY!J140 -> 0 | E141: =ENTRY!N140 -> 0 | F141: =ENTRY!R140 -> 0 | G141: =ENTRY!V140 -> 0 | H141: =ENTRY!Z140 -> 0
A142: =ENTRY!A141 -> 0 | B142: =ENTRY!B141 -> 0 | C142: =ENTRY!AD141 -> 0 | D142: =ENTRY!J141 -> 0 | E142: =ENTRY!N141 -> 0 | F142: =ENTRY!R141 -> 0 | G142: =ENTRY!V141 -> 0 | H142: =ENTRY!Z141 -> 0
A143: =ENTRY!A142 -> 0 | B143: =ENTRY!B142 -> 0 | C143: =ENTRY!AD142 -> 0 | D143: =ENTRY!J142 -> 0 | E143: =ENTRY!N142 -> 0 | F143: =ENTRY!R142 -> 0 | G143: =ENTRY!V142 -> 0 | H143: =ENTRY!Z142 -> 0
A144: =ENTRY!A143 -> 0 | B144: =ENTRY!B143 -> 0 | C144: =ENTRY!AD143 -> 0 | D144: =ENTRY!J143 -> 0 | E144: =ENTRY!N143 -> 0 | F144: =ENTRY!R143 -> 0 | G144: =ENTRY!V143 -> 0 | H144: =ENTRY!Z143 -> 0
A145: =ENTRY!A144 -> 0 | B145: =ENTRY!B144 -> 0 | C145: =ENTRY!AD144 -> 0 | D145: =ENTRY!J144 -> 0 | E145: =ENTRY!N144 -> 0 | F145: =ENTRY!R144 -> 0 | G145: =ENTRY!V144 -> 0 | H145: =ENTRY!Z144 -> 0
... A218: =ENTRY!A217 -> 0 | B218: =ENTRY!B217 -> 0 | C218: =ENTRY!AD217 -> 0 | D218: =ENTRY!J217 -> 0 | E218: =ENTRY!N217 -> 0 | F218: =ENTRY!R217 -> 0 | G218: =ENTRY!V217 -> 0 | H218: =ENTRY!Z217 -> 0
A219: =ENTRY!A216 -> 0 | B219: =ENTRY!B216 -> 0 | C219: =ENTRY!AD216 -> 0 | D219: =ENTRY!J216 -> 0 | E219: =ENTRY!N216 -> 0 | F219: =ENTRY!R216 -> 0 | G219: =ENTRY!V216 -> 0 | H219: =ENTRY!Z216 -> 0
A220: =ENTRY!A217 -> 0 | B220: =ENTRY!B217 -> 0 | C220: =ENTRY!AD217 -> 0 | D220: =ENTRY!J217 -> 0 | E220: =ENTRY!N217 -> 0 | F220: =ENTRY!R217 -> 0 | G220: =ENTRY!V217 -> 0 | H220: =ENTRY!Z217 -> 0
A221: =ENTRY!A218 -> 0 | B221: =ENTRY!B218 -> 0 | C221: =ENTRY!AD218 -> 0 | D221: =ENTRY!J218 -> 0 | E221: =ENTRY!N218 -> 0 | F221: =ENTRY!R218 -> 0 | G221: =ENTRY!V218 -> 0 | H221: =ENTRY!Z218 -> 0
A222: =ENTRY!A219 -> 0 | B222: =ENTRY!B219 -> 0 | C222: =ENTRY!AD219 -> 0 | D222: =ENTRY!J219 -> 0 | E222: =ENTRY!N219 -> 0 | F222: =ENTRY!R219 -> 0 | G222: =ENTRY!V219 -> 0 | H222: =ENTRY!Z219 -> 0

Sheet 2020
A1: No. | B1: TEAM NAME | C1: Paid | D1: MANAGERS | E1: PHONE | F1: ADDRESS1 | G1: ADDRESS2 | H1: ADDRESS3 | I1: EMAIL | J1: RUNNER | N1: CANOE | R1: SWIM | V1: EQUESTRIAN | Z1: CYCLE | AD1: CAT | AE1: SIGN | AF1: EQUESTRIAN CLUB
B2: 44103 | J2: SURNAME | K2: AGE | L2: PHONE | M2: SIGN | N2: SURNAME | O2: AGE | P2: PHONE | Q2: SIGN | R2: SURNAME | S2: AGE | T2: PHONE | U2: SIGN | V2: SURNAME | W2: AGE | X2: PHONE | Y2: SIGN | Z2: SURNAME | AA2: AGE | AB2: PHONE | AC2: SIGN | AF2: 0
A3: 2 | B3: RUSTY IRONMEN BLUE | D3: CLIVE CHOATE | E3: 0422124908 | F3: 16 KEPPEL MEWS | G3: HALLS HEAD | H3: WA 6210 | I3: choate@westnet.com.au | J3: JIM LANGFORD | K3: 76 | M3: Y | N3: MATT RITIKIS | O3: 56 | Q3: Y | R3: ETHAN NORRIS | S3: 50 | U3: Y | V3: LINDA YATES | W3: 42 | Y3: Y | Z3: DAVE WHITELEY | AA3: 69 | AC3: Y | AD3: SV | AE3: Y
A4: 3 | B4: RUSTY IRONMEN RED | D4: CLIVE CHOATE | E4: 0422124908 | F4: 16 KEPPEL MEWS | G4: HALLS HEAD | H4: WA 6210 | I4: choate@westnet.com.au | J4: DAVE KENNEDY | N4: IAN THOMPSON | O4: 64 | R4: JUSTIN HARRIS | S4: 46 | V4: MONEEKA ANGEL | W4: 32 | Z4: RICKY THACKRAY | AA4: 43 | AD4: OP | AE4: Y
A5: 4 | B5: RUSTY IRONMEN GREEN | D5: CLIVE CHOATE | E5: 0422124908 | F5: 16 KEPPEL MEWS | G5: HALLS HEAD | H5: WA 6210 | I5: choate@westnet.com.au | J5: RICKY THACKRAY | K5: 43 | N5: JOHN REYNOLDS | O5: 63 | R5: CLIVE CHOATE | S5: 69 | V5: KIRK BAKER | W5: 52 | Z5: DARRYL HARRIS | AA5: 55 | AD5: SV | AE5: Y
A6: 5 | B6: 50 IS THE NEW 30 | D6: LINDA VOWLES | E6: 0417588651 | F6: PO BOX 1020 | G6: BRIDGETOWN | H6: WA 6255 | I6: wheelerjane29@gmail.com | J6: KAREN ROYER | K6: 59 | L6: 0457190345 | M6: N | Q6: N | U6: N | V6: RAYLENE WATSON | W6: 56 | X6: 0419262633 | Y6: N | Z6: LINDA VOWLES | AA6: 55 | AB6: 0417588651 | AC6: Y | AE6: Y
A7: 9 | B7: SMASHING KREBS | D7: DAVID FIELD | E7: 0417173549 | F7: 16 ROSELLA RISE. | G7: BRIDGETOWN | H7: WA 6255 | I7: dfphysio@bigpopnd.com | J7: DAVID FIELD | K7: 48 | L7: 0417173549 | M7: Y | N7: TIM MULCAHY | O7: 47 | P7: 0418489710 | Q7: Y | R7: JOHANNA VAN ROOYEN | S7: 48 | T7: 0414854864 | U7: Y | V7: NE | Z7: MICHAEL HOAR | AA7: 47 | AB7: 0408011667 | AC7: Y | AD7: VE | AE7: Y
A8: 10 | B8: RUSTY IRONMEN GOLD | D8: CLIVE CHOATE | E8: 0422124908 | F8: 16 KEPPEL MEWS | G8: HALLS HEAD | H8: WA 6210 | I8: choate@westnet.com.au | J8: ROSS LANGFORD | K8: 42 | N8: PAUL DEVONPORT | O8: 52 | R8: LYLE KILDEA | S8: 62 | V8: MARK HAY | W8: 60 | Z8: ADRIAN PERRY | AA8: 57 | AD8: VE | AE8: Y
A9: 13 | B9: MUMS ON THE RUN | D9: BIANCA BESTON | E9: 0431719066 | F9: 40 BOUNDARY RD | G9: ST JAMES | H9: WA 6102 | I9: biancabeston@gmail.com | J9: BIANCA BESTON | K9: 39 | L9: 0431719066 | M9: Y | N9: SUE DEERING | O9: 46 | P9: 0414848712 | Q9: Y | R9: BIANCA BESTON | S9: 39 | T9: 0431719066 | U9: Y | V9: NE | Z9: BRIDGET KELLETT | AA9: 41 | AB9: 0477530090 | AC9: Y | AD9: LV | AE9: Y
A10: 14 | B10: MONGER MONGRELS | D10: DEAN ZEC | E10: 04248600761 | F10: 26 KURRAJONG PL | G10: GREENWOOD | H10: WA 6024 | I10: dean.zec@msasafety.com | J10: STEVE PREECE | K10: 51 | M10: N | N10: SCOTT WOOLDRIDGE | O10: 53 | P10: 0424813680 | Q10: N | R10: DEAN ZEC | S10: 53 | T10: 0428600761 | U10: N | V10: NE | Z10: JON ELLIOTT | AA10: 56 | AB10: 0412289801 | AC10: N | AD10: VE | AE10: Y
A11: 17 | B11: FIVE ALIVE | D11: KATHRYN KNOLL | E11: 0428428705 | F11: PO BOX 596 | G11: DONNYBROOK | H11: WA 6239 | I11: knollcando@westnet.com.au | J11: MELANIE EWEN | K11: 42 | L11: 0429361227 | M11: Y | N11: PETER LIDDLE | O11: 61 | P11: 0466136652 | Q11: Y | R11: BRENDON BUNNING | S11: 64 | T11: 0458224230 | U11: Y | V11: KATHRYN KNOLL | W11: 53 | X11: 0427427705 | Y11: Y | Z11: LEIGHTON KNOLL | AA11: 59 | AB11: 0427427705 | AC11: Y | AD11: SV | AE11: Y
A12: 19 | B12: RIVER RATS | D12: ANDY WHITTELL | E12: 0409376359 | F12: 10 SPARROW CRES | G12: BUSSELTON | H12: WA 6280 | I12: busolaserman@gmail.com | J12: RICK WARD | K12: 71 | L12: 0419796080 | M12: Y | N12: LEONARD CHRISTIE | O12: 66 | P12: 0435933956 | Q12: Y | R12: ANDREW WHITTELL | S12: 66 | T12: 0409376359 | U12: Y | V12: NE | Z12: MIKE CAROLL | AC12: Y | AD12: SV | AE12: Y
A13: 26 | B13: EASIER SAID THAN RUN | D13: KATE SMITH | E13: 0458367637 | F13: 36B BLACKWALL REACH PDE | G13: BICTON | H13: WA 6157 | I13: kate.smith@westnet.com.au | J13: KRISTINE RICCI | K13: 52 | L13: 0414851384 | M13: Y | N13: TONY SMITH | O13: 45 | P13: 0409859866 | Q13: Y | R13: KRISTINE RICCI | S13: 52 | T13: 0414851384 | U13: Y | V13: TONY BOOKER | W13: 52 | X13: 0412299016 | Y13: Y | Z13: KATE SMITH | AA13: 44 | AB13: 0458367637 | AC13: Y | AD13: VE | AE13: Y
A14: 29 | B14: DARKAN PNUTS | D14: NATHAN CUTHBERT | E14: 0459160702 | F14: LOT 135 COALFIELD RD | G14: DARKAN | H14: WA 6392 | I14: nathan.cuthbert@landmark.com.au | J14: NATHAN CUTHBERT | K14: 45 | L14: 0459160702 | M14: Y | N14: DEAN KING | O14: 41 | P14: 0427809960 | Q14: Y | R14: RYAN WILKE | S14: 41 | T14: 0429361104 | U14: Y | V14: NE | Z14: SCOTT EWEN | AA14: 44 | AB14: 0427361227 | AC14: Y | AD14: VE | AE14: Y
A15: 38 | B15: FRISKY MIDGET | D15: SILKE HIGHET | E15: 0420662160 | F15: 54 SAMSON ST | G15: MOSMAN PARK | H15: WA 6012 | I15: silkehighet@gmail.com | J15: KATE INGRAM | K15: 53 | L15: 0422096040 | M15: Y | N15: GREG HOGAN | O15: 53 | P15: 0412382426 | Q15: Y | R15: SILKE HIGHET | S15: 52 | T15: 0420662160 | U15: Y | Z15: ANDREW HIGHET | AA15: 51 | AB15: 0429067714 | AC15: Y | AD15: VE | AE15: Y
A16: 40 | B16: LIFESPORTS GUNNA CATCH YA | D16: TRISH DAVIES | E16: 0429644055 | F16: PO BOX 954 | G16: BRIDGETOWN | H16: WA 6255 | I16: trish@lifesports.com.au | J16: DARCY CRAVEN | K16: 16 | N16: CAMERON RODGERS | R16: ETHAN WILLEY | V16: NE | Z16: NATHAN DAVIES | AA16: 15 | AD16: U8
A17: 44 | B17: OLD DOCS | D17: PETER BATH | E17: 0407080760 | F17: 6 WEBB ST | G17: COTTESLOE | H17: WA 6011 | I17: gromit@iinet.net.au | AE17: Y | AF17: WOOROLOO
A18: 45 | B18: NEXT GENERATION | D18: ANNE MAGENNIS | E18: 0432325702 | F18: 17 PITT ST | G18: ST JAMES | H18: WA 6102 | I18: alana.tulip@icloud.com | J18: ALANA TULIP | K18: 15 | L18: 0432325702 | M18: YY | N18: ALANA TULIP | O18: 15 | P18: 0432325702 | Q18: YY | R18: GRACE HEPWORTH | S18: 15 | T18: 0405499170 | U18: YY | V18: NE | Z18: LACHLAN CASSIDY | AA18: 15 | AB18: 0417175082 | AC18: YY | AD18: U8 | AE18: Y
A19: 46 | B19: THINK FIT | D19: TEX WEBSTER | E19: 0419702187 | F19: 108 TERRACE RD | G19: GUILDFORD | H19: WA 6055 | I19: glindon.webster@bigpond.com
A20: 47 | B20: THINKFIT KIDS | D20: TEX WEBSTER | E20: 0419702187 | F20: 108 TERRACE RD | G20: GUILDFORD | H20: WA 6055 | I20: glindon.webster@bigpond.com
A21: 48 | B21: THINK FIT | D21: TEX WEBSTER | E21: 0419702187 | F21: 108 TERRACE RD | G21: GUILDFORD | H21: WA 6055 | I21: glindon.webster@bigpond.com
A22: 52 | B22: IT'S TIME | D22: TOM CROSS | E22: 0409182014 | F22: 513 CROOKED BROOOK RD | G22: DARDANUP | H22: WA 6236 | I22: tom@jwcross.com.au | J22: CHRIS KILEY | K22: 66 | L22: 0413144590 | M22: Y | N22: ROD CHAMBERS | O22: 61 | P22: 0434824264 | Q22: Y | R22: RICHARD GEORGE | S22: 60 | T22: 0404819532 | U22: Y | V22: CHRIS HADDON | W22: 60 | X22: 0427907680 | Y22: Y | Z22: TOM CROSS | AA22: 65 | AB22: 0409182014 | AC22: Y | AD22: SV | AE22: Y
A23: 58 | B23: HONEY BADGERS | D23: CHRIS MOTT | E23: 0429967507 | F23: PO BOX 982 | G23: BRIDGETOWN | H23: WA 6255 | I23: stophocles@gmail.com | J23: NATHAN WALTER | K23: 39 | L23: 0409771685 | M23: N | N23: CRAIG BESWICK | O23: 45 | P23: 0438003841 | Q23: Y | R23: CHRIS MOTT | S23: 47 | T23: 0429967507 | U23: Y | V23: NE | Z23: GEORGE CRAIG | AA23: 49 | AB23: 0438611019 | AC23: Y | AD23: OP | AE23: Y
A24: 62 | B24: 6101 DELTA | D24: KAREN MARTIN | E24: 0424064726 | F24: 19 GRESHAM ST | G24: VIC PARK | H24: WA 6100 | I24: kasbri@bigpond.net.au | J24: GRACE HEPWORTH | K24: 15 | L24: 0405499170 | M24: YY | N24: TODD BEATON | O24: 43 | P24: 0427813351 | Q24: Y | R24: KAREN MARTIN | S24: 49 | T24: 0424067726 | U24: Y | V24: NE | Z24: GLENN BURGESS | AA24: 52 | AB24: 0419915646 | AC24: Y | AD24: OP | AE24: Y
A25: 67 | B25: BLACKOUT ELECTRICAL | D25: GINA LOOKE | E25: 0428272945 | F25: 2615 BUNNING RD | G25: MT HELENA | H25: WA 6082 | I25: ian.ginalooke@bigpond.com | J25: THEA HIGGINBOTTOM | K25: 29 | L25: 0410800773 | M25: Y | N25: IAN LOOKE | O25: 61 | P25: 0428291018 | Q25: Y | R25: SAMUEL LOOKE | S25: 33 | T25: 0427866514 | U25: Y | V25: GINA LOOKE | W25: 58 | X25: 0428272945 | Y25: Y | Z25: THOMAS HIGGINBOTTOM | AA25: 31 | AB25: 0419576710 | AC25: Y | AD25: OP | AE25: Y
A26: 70 | B26: DOUG'S TEAM | D26: WARREN SOUTHWELL | E26: 0407423060 | F26: 5 LIONEL RD | G26: DARLINGTON | H26: WA 6090 | I26: wsouthwe@bigpond.net.au | J26: JAMES DEWING | K26: 36 | L26: 0439620243 | M26: Y | N26: WARREN SOUTHWELL | O26: 63 | P26: 0407423060 | Q26: Y | R26: HOLLY CORDELL | S26: 32 | T26: 0422525485 | U26: Y | V26: GILLIAN WADDINGTON | W26: 46 | X26: 0408943376 | Y26: Y | Z26: PETER CLISSA | AA26: 55 | AB26: 0422315667 | AC26: Y | AD26: OP | AE26: Y
A27: 78 | B27: SHAKE'n'BAKE | D27: ROB JARRETT | E27: 0412581348 | F27: 19 BELLAMBI CHASE | G27: LAKELANDS | H27: WA 6180 | I27: robbie_jay@hotmail.com | J27: JACK DOWIE | K27: 58 | L27: 0413333650 | N27: ROB JARRETT | O27: 55 | P27: 0412581348 | Q27: Y | R27: JACK DOWIE | S27: 58 | T27: 0413333650 | V27: NE | Z27: JOHN QUINN | AA27: 58 | AB27: 0413524524 | AD27: SV | AE27: Y
A28: 79 | B28: LIFESPORTS TEAM SHANK | D28: TRISH DAVIES | E28: 0429644055 | F28: PO BOX 954 | G28: BRIDGETOWN | H28: WA 6255 | I28: trish@lifesports.com.au | J28: CAROLYN MADER | N28: DAVE CAMPBELL | P28: 0474086321 | Q28: N | R28: PETER VOWLES | V28: BRIAN PARTRIDGE | Z28: LUKAS BAKER | AD28: OP | AE28: Y
A29: 81 | B29: RACING RUGRATS | D29: KEITH YARDLEY | E29: 0427913232 | F29: PO BOX 1821 | G29: BUNBURY | H29: WA 6230 | I29: info@rugratscarpetclean.com.au | J29: KEITH YARDLEY | K29: 57 | L29: 0427913232 | M29: Y | N29: GARY BUTLION | O29: 54 | P29: 0428459729 | Q29: Y | R29: GEORGE WILLIAMS | S29: 63 | T29: 0435078628 | U29: Y | V29: JULIE WALSH | W29: 58 | X29: 0428511268 | Y29: Y | Z29: GREG FLEAY | AA29: 58 | AB29: 0435755480 | AC29: YY | AD29: OP | AE29: Y
A30: 82 | B30: LIFESPORTS - TEAM FITZY | D30: TRISH DAVIES | E30: 0429644055 | F30: PO BOX 954 | G30: BRIDGETOWN | H30: WA 6255 | I30: trish@lifesports.com.au | J30: CAMERON HAYES | N30: JUSTIN FITZPATRICK | O30: 43 | P30: 0488227726 | R30: KAIDEN RICHINGS | V30: SARAH MUELLER | W30: 31 | X30: 0416318575 | Z30: ALAN BURMAN | AD30: OP | AE30: Y
A31: 84 | B31: LIFESPORTS THE BOYS | D31: TRISH DAVIES | E31: 0429644055 | F31: PO BOX 954 | G31: BRIDGETOWN | H31: WA 6255 | I31: trish@lifesports.com.au | J31: KYLE WILSON | K31: 20 | N31: TIM DAVIES | R31: TBC | V31: NE | Z31: TOBY WARD | AA31: 20 | AD31: OP | AE31: Y
A32: 85 | B32: LIFESPORTS LEGENDS | D32: TRISH DAVIES | E32: 0429644055 | F32: PO BOX 954 | G32: BRIDGETOWN | H32: WA 6255 | I32: trish@lifesports.com.au | J32: LEWIS RICHINGS | K32: 18 | N32: BRETT DAVIES | O32: 17 | R32: SINEAD ELAM | S32: 17 | V32: NE | Z32: BEN RODGERS | AA32: 18 | AD32: U8
A33: 86 | B33: FAST THINKING | D33: PHILIP MASSEY | E33: 0414536337 | F33: 35 CRYSTAL BROOK RD | G33: WATTLE GROVE | H33: WA 6107 | I33: pipmasseyperth@gmail.com | J33: DAVID BURCH | K33: 52 | L33: 0417519412 | M33: Y | N33: ADAM REEVE | O33: 49 | P33: 0438664332 | Q33: Y | R33: PIP MASSEY | S33: 61 | T33: 0414536337 | U33: Y | Z33: SIMON WESTLAKE | AA33: 58 | AB33: 0418906038 | AC33: Y | AD33: SV | AE33: Y | AF33: Y
A34: 89 | B34: LIFESPORTS - MR BILL | D34: TRISH DAVIES | E34: 0429644055 | F34: PO BOX 954 | G34: BRIDGETOWN | H34: WA 6255 | I34: trish@lifesports.com.au | J34: BRETT WILSON | L34: 0428901169 | M34: N | N34: VINCE JUREWICZ | O34: 56 | P34: 0429611970 | R34: JENNILEE VAN ROOYEN | V34: MEGAN RICHARDS | X34: 0427045812 | Y34: N | Z34: TIM SAUNDERS | AD34: OP
A35: 90 | B35: 6101 ALPHA | D35: KAREN McROBB | E35: 0418945432 | F35: 21 GRESHAM ST | G35: VIC PARK | H35: WA 6100 | I35: kazguy05@yahoo.com.au | J35: AMY FRANGS | K35: 15 | L35: 0432179406 | M35: Y | N35: AMANDA FORD-BROWN | O35: 51 | P35: 0466136626 | Q35: YY | R35: RYAN BUTLER | S35: 46 | U35: Y | V35: NE | Z35: KAREN McROBB | AA35: 51 | AB35: 0418945432 | AC35: Y | AD35: OP | AE35: Y
A36: 93 | B36: 6101 GOLF | D36: GUY KNOWLDEN | E36: 0438099847 | F36: 21 GRESHAM ST | G36: VIC PARK | H36: WA 6100 | I36: kazguy05@yahoo.com.au | J36: LACHIE CASSIDY | K36: 15 | L36: 0408097654 | M36: YY | N36: SIMON TULIP | O36: 59 | P36: 0466774629 | Q36: Y | R36: LISA JONES | S36: 50 | U36: Y | V36: NE | Z36: GUY KNOWLDEN | AA36: 54 | AB36: 0438099847 | AC36: Y | AD36: OP | AE36: Y
A37: 94 | B37: 6101 FOXTROT | D37: ALANA HEPWORTH | E37: 0405499170 | F37: 19 NORTHAMPTON ST | G37: EAST VIC PARK | H37: WA 6101 | I37: ashepworth@bigpond.com | J37: MARK FARRAWAY | K37: 45 | L37: 0407940932 | M37: Y | N37: JOS WELSH | O37: 50 | P37: 0407546174 | Q37: Y | R37: ALANA TULIP | S37: 15 | T37: 0405451121 | U37: Y | Z37: ALANA HEPWORTH | AA37: 45 | AB37: 0405499170 | AC37: Y | AD37: OP | AE37: Y
A38: 95 | B38: 6101 ECHO | D38: GRANT McMURTRIE | E38: 0438538336 | F38: 12 HAMPSHIRE ST | G38: EAST VIC PARK | H38: WA 6101 | I38: kategrant@westnet.com.au | J38: MARTIN DAVIES | K38: 56 | L38: 0409204473 | M38: Y | N38: GRANT McMURTRIE | O38: 47 | P38: 0438538336 | Q38: Y | R38: SIENNA HEPWORTH | S38: 13 | T38: 0477443932 | U38: YY | V38: NE | Z38: BRIAN MARTIN | AA38: 48 | AB38: 0432899483 | AC38: Y | AD38: OP
A39: 96 | B39: STRAY ANIMALS | D39: MATT DAVIS | E39: 0419245125 | F39: 10 TORRENS ST | G39: COTTESLOE | H39: WA 6011 | I39: matt@gnarabupbeachhouse.com.au | J39: MILES DRACUP | K39: 61 | L39: 0409352833 | M39: Y | N39: MARK CRAKE | O39: 64 | P39: 0468875355 | Q39: Y | R39: RAYMOND YONG | S39: 60 | T39: 0404315243 | U39: Y | V39: NE | Z39: MATT DAVIS | AA39: 62 | AB39: 0419245125 | AC39: Y | AD39: SV | AE39: Y
A40: 97 | B40: 6101 HOTEL | D40: DAVID MILNE | E40: 0417179006 | F40: 45A CANTERBURY TCE | G40: EAST VIC PARK | H40: WA 6101 | I40: david.milne@plc.wa.edu.au | J40: DOMINICK PONTRE | K40: 42 | L40: 0424561701 | M40: Y | N40: DANIEL HEGARTY | O40: 52 | P40: 0457803073 | Q40: Y | R40: DAVID MILNE | S40: 48 | T40: 0417179006 | U40: Y | V40: NE | Z40: MIKE BANTON | AA40: 48 | AB40: 0433996695 | AC40: Y | AD40: VE | AE40: Y
...

Sheet 2019
A1: No. | B1: TEAM NAME | C1: Paid | D1: MANAGERS | E1: PHONE | F1: ADDRESS1 | G1: ADDRESS2 | H1: ADDRESS3 | I1: EMAIL | J1: RUNNER | N1: CANOE | R1: SWIM | V1: EQUESTRIAN | Z1: CYCLE | AD1: CAT | AE1: SIGN | AF1: EQUESTRIAN CLUB
B2: 43763 | J2: SURNAME | K2: AGE | L2: PHONE | M2: SIGN | N2: SURNAME | O2: AGE | P2: PHONE | Q2: SIGN | R2: SURNAME | S2: AGE | T2: PHONE | U2: SIGN | V2: SURNAME | W2: AGE | X2: PHONE | Y2: SIGN | Z2: SURNAME | AA2: AGE | AB2: PHONE | AC2: SIGN
A3: 1 | B3: BRIDGETOWN TEARAWAYS | D3: RIC WHEATLEY | E3: 0427501207 | F3: 1584 WINNEJUP RD | G3: BRIDGETOWN | H3: WA 6255 | I3: apwheatley@bigpond.com | J3: KATHERINE ROSINSKI | K3: 69 | L3: 97721240 | M3: Y | N3: MARTY WALLACE | O3: 56 | P3: 0417904842 | Q3: Y | R3: DAVID GRAY | S3: 71 | T3: 0428950921 | U3: Y | V3: MARK HAY | W3: 60 | X3: 0418953742 | Y3: Y | Z3: BARRY SHEPHARD | AA3: 75 | AB3: 97611171 | AC3: Y | AD3: SV | AE3: Y
A4: 2 | B4: RUSTY IRONMEN BLUE | D4: CLIVE CHOATE | E4: 0422124908 | F4: 16 KEPPEL MEWS | G4: HALLS HEAD | H4: WA 6210 | I4: choate@westnet.com.au | J4: JIM LANGFORD | K4: 75 | M4: Y | N4: MATT RITIKIS | O4: 55 | Q4: Y | R4: ETHAN NORRIS | S4: 49 | U4: Y | V4: LINDA YATES | W4: 41 | Y4: Y | Z4: DAVE WHITELEY | AA4: 68 | AC4: Y | AD4: SV | AE4: Y
A5: 3 | B5: RUSTY IRONMEN RED | D5: CLIVE CHOATE | E5: 0422124908 | F5: 16 KEPPEL MEWS | G5: HALLS HEAD | H5: WA 6210 | I5: choate@westnet.com.au | J5: STEPHEN BROWN | K5: 59 | M5: Y | N5: IAN THOMPSON | O5: 63 | Q5: Y | R5: JULIA NORRIS | S5: 46 | U5: Y | V5: MICHAEL BUTLER | W5: 60 | Y5: Y | Z5: NEIL HALL | AA5: 59 | AC5: Y | AD5: SV | AE5: Y
A6: 4 | B6: RUSTY IRONMEN GREEN | D6: CLIVE CHOATE | E6: 0422124908 | F6: 16 KEPPEL MEWS | G6: HALLS HEAD | H6: WA 6210 | I6: choate@westnet.com.au | J6: STEVE CHOATE | K6: 32 | M6: Y | N6: PETER MARTIN | O6: 57 | Q6: Y | R6: SHAWNALESE NORRIS | S6: 19 | U6: Y | V6: MONEEKA ANGEL | W6: 31 | Y6: Y | Z6: TREANA BENZ | AA6: 53 | AC6: Y | AD6: OP | AE6: Y
A7: 5 | B7: 50 IS THE NEW 30 | C7: Y | D7: JANE WHEELER | E7: 0427717095 | F7: PO BOX 558 | G7: BRIDGETOWN | H7: WA 6255 | I7: wheelerjane29@gmail.com | J7: KAREN ROYER | K7: 58 | L7: 457190345 | M7: N | N7: KAREN FRANKLIN-GREEN | O7: 55 | P7: 0466845875 | Q7: N | R7: JANE WHEELER | S7: 56 | T7: 0427717095 | U7: N | V7: RAYLENE WATSON | W7: 55 | X7: 0419262633 | Y7: N | Z7: LINDA VOWLES | AA7: 55 | AB7: 0417588651 | AC7: Y | AD7: SL | AE7: Y | AF7: WAERA
A8: 6 | B8: RUSTY IRONMEN BLACK | D8: CLIVE CHOATE | E8: 0422124908 | F8: 16 KEPPEL MEWS | G8: HALLS HEAD | H8: WA 6210 | I8: choate@westnet.com.au | J8: PETER SKEGGS | K8: 59 | M8: Y | N8: JOHN REYNOLDS | O8: 62 | Q8: Y | R8: JOEL LEWIS | S8: 57 | U8: Y | V8: KIRK BAKER | W8: 50 | Y8: N | Z8: JOHN REYBURN | AA8: 60 | AC8: N | AD8: SV
A9: 7 | B9: GEEGEELUP RACERS | D9: MICK DEWING | E9: 041790398 | F9: PO BOX 257 | G9: BRIDGETOWN | H9: WA 6255 | I9: mdewing@iinet.net.au | J9: JOEL BARKER | K9: 37 | L9: 0400975884 | M9: Y | N9: MICK DEWING | O9: 69 | P9: 0417903987 | Q9: Y | R9: JOHN MONCRIEFF | S9: 68 | T9: 0432105754 | U9: Y | V9: KEELY ANGEL | W9: 18 | X9: 97612215 | Y9: Y | Z9: MIKE VAN DUIJNHOVEN | AA9: 71 | AB9: 0428327366 | AC9: Y | AD9: OP | AE9: Y
A10: 8 | B10: HAVANA CLUB | D10: GLEN HOLST | E10: 0419850643 | F10: PO BOX 120 | G10: BRIDGETOWN | H10: WA 6255 | I10: admin@glenholst.com.au | J10: AMBROSE FOLEY | K10: 19 | L10: 0467266545 | M10: Y | N10: GLEN HOLST | O10: 58 | P10: 0419850643 | Q10: Y | R10: ANDREW MACNISH | S10: 54 | T10: 0408810444 | U10: Y | V10: EMMA PANIZZA | W10: 31 | X10: 0428740442 | Y10: Y | Z10: ROB DE LAETER | AA10: 51 | AB10: 0417971963 | AC10: Y | AD10: OP | AE10: Y
A11: 9 | B11: SMASHING KREBS | D11: DAVID FIELD | E11: 0417173549 | F11: 16 ROSELLA RISE. | G11: BRIDGETOWN | H11: WA 6255 | I11: dfphysio@bigpopnd.net.au | J11: GURPREET SINGH | K11: 39 | L11: 0430433662 | M11: Y | N11: TIM MULCAHY | O11: 46 | P11: 0418489710 | Q11: Y | R11: JOHANNA VAN ROOYEN | S11: 46 | T11: 0414854864 | U11: Y | V11: NE | Z11: MIKE HOAR | AA11: 46 | AB11: 0408011667 | AC11: Y | AD11: OP | AE11: Y
A12: 10 | B12: RUSTY IRONMEN GOLD | D12: CLIVE CHOATE | E12: 0422124908 | F12: 16 KEPPEL MEWS | G12: HALLS HEAD | H12: WA 6210 | I12: choate@westnet.com.au | J12: ROSS LANGFORD | K12: 41 | M12: Y | N12: CHRIS BOOCOCK | O12: 61 | Q12: Y | R12: LYLE KILDEA | S12: 61 | U12: Y | V12: LYNETTE AVINS | W12: 39 | Y12: Y | Z12: ADRIAN PERRY | AA12: 56 | AC12: Y | AD12: VE | AE12: Y
A13: 11 | B13: FIVE ABREAST | D13: DIANNE HOLLETT | E13: 0431184436 | F13: PO BOX 249 | G13: BRIDGETOWN | H13: WA 6255 | I13: bigholl@westnet.com.au | J13: DIANE HOLLETT | K13: 58 | L13: 0431184436 | M13: Y | N13: LYN WHITNEY | O13: 64 | P13: 97611238 | Q13: Y | R13: KYLIE ENGLISH | S13: 54 | U13: N | V13: VIKTORIA CHLAPIK | W13: 38 | X13: 0499143219 | Y13: N | Z13: ALISON WHEATLEY | AA13: 59 | AB13: 0427944377 | AC13: Y | AD13: SL | AE13: Y | AF13: Y
A14: 12 | B14: GIDDYUP | D14: DAWN PENNEY | E14: 0497577849 | F14: 145 SHAKESPEARE AVE | G14: YOKIINE | H14: WA 6060 | I14: dawn.penney@westnet.com.au | J14: DAWN PENNEY | K14: 52 | L14: 0497577849 | M14: Y | N14: LARRY ODGERS | O14: 67 | P14: 0448798716 | Q14: Y | R14: DAWN PENNEY | S14: 52 | T14: 0497577849 | U14: Y | V14: NICOLA JOHNSON | W14: 43 | X14: '0402680883 | Y14: Y | Z14: DAWN PENNEY | AA14: 52 | AB14: 0497577849 | AC14: Y | AD14: VE | AE14: Y
A15: 13 | B15: MUMS ON THE RUN | D15: BIANCA BESTON | E15: 0431719066 | F15: 40 BOUNDARY RD | G15: ST JAMES | H15: WA 6102 | I15: biancabeston@gmail.com | J15: SINEAD MILLER | K15: 43 | M15: Y | N15: SUE DEERING | O15: 45 | P15: 0414848712 | Q15: Y | R15: BIANCA BESTON | S15: 38 | T15: 0431719066 | U15: Y | V15: NE | Z15: CHERIE LOMEN | AA15: 36 | AB15: 0420521340 | AC15: Y | AD15: LV | AE15: Y
A16: 14 | B16: MONGER MONGRELS | D16: DEAN ZEC | E16: 04248600761 | F16: 26 KURRAJONG PL | G16: GREENWOOD | H16: WA 6024 | I16: dean.zec@msasafety.com | J16: ROB DE LAETER | K16: 51 | L16: 0417971963 | M16: Y | N16: SCOTT WOOLDRIDGE | O16: 52 | P16: 0424813680 | Q16: N | R16: DEAN ZEC | S16: 52 | T16: 0428600761 | U16: N | V16: NE | Z16: JON ELLIOTT | AA16: 54 | AB16: 0412289801 | AC16: N | AD16: VE | AE16: Y
A17: 15 | B17: RUSTY IRONMEN PURPLE | D17: CLIVE CHOATE | E17: 0422124908 | F17: 16 KEPPEL MEWS | G17: HALLS HEAD | H17: WA 6210 | I17: choate@westnet.com.au | J17: STEVE WISEMAN | K17: 64 | M17: Y | N17: ANN SMITHSON | O17: 50 | Q17: Y | R17: LESLEY STACKHOUSE | S17: 52 | U17: Y | V17: BOBBY SPENCE | W17: 59 | Y17: Y | Z17: SUSIE SINGH | AA17: 57 | AC17: Y | AD17: SV | AE17: Y
A18: 16 | B18: TOUCH WOOD | D18: ROWENA DE GROOT | E18: 0402242911 | F18: 38 CROSSLAND ST | G18: ESPERANCE | H18: WA 6450 | I18: rowenakend@gmail.com | J18: JAYME BERGMAN | K18: 36 | L18: 0439340353 | M18: Y | N18: ROWENA DE GROOT | O18: 34 | P18: 0402262911 | Q18: Y | R18: MICHELLE PITMAN | S18: 37 | T18: 0428520724 | U18: Y | V18: NADETTE HODGE | W18: 44 | X18: 0428932044 | Y18: Y | Z18: LOUISE PEARN | AA18: 42 | AB18: 0418896706 | AC18: Y | AD18: WO | AE18: Y | AF18: ESPERANCE EQUESTRIAN CLUB
A19: 17 | B19: FIVE ALIVE | C19: Y | D19: KATHRYN KNOLL | E19: 0428428705 | F19: PO BOX 596 | G19: DONNYBROOK | H19: WA 6239 | I19: knollcando@westnet.com.au | J19: ANDREW ELDRIDGE | K19: 58 | L19: 0438220703 | M19: Y | N19: PETER LIDDLE | O19: 60 | P19: 0466136652 | Q19: Y | R19: BRENDON BUNNING | S19: 63 | T19: 0458224230 | U19: Y | V19: KATHRYN KNOLL | W19: 52 | X19: 0427427705 | Y19: Y | Z19: LEIGHTON KNOLL | AA19: 58 | AB19: 0427427705 | AC19: Y | AD19: SV | AE19: Y
A20: 18 | B20: RUSTY IRONMEN PINK | D20: CLIVE CHOATE | E20: 0422124908 | F20: 16 KEPPEL MEWS | G20: HALLS HEAD | H20: WA 6210 | I20: choate@westnet.com.au | J20: SHARON DAVIS | K20: 46 | M20: Y | N20: MELISSA MARTYN | O20: 50 | Q20: Y | R20: RHIANNON JAMES | S20: 45 | U20: Y | V20: SONIA BROI | W20: 53 | X20: 0474 137 868 | Y20: Y | Z20: JANE THOMAS | AA20: 59 | AC20: Y | AD20: SL | AE20: Y
A21: 19 | B21: RIVER RATS | D21: ANDY WHITTELL | E21: 0409376359 | F21: 10 SPARROW CRES | G21: BUSSELTON | H21: WA 6280 | I21: busolaserman@gmail.com | J21: RUSSELL BARTON | K21: 51 | L21: 0410260021 | M21: Y | N21: ANDREW WHITTELL | O21: 66 | P21: 0409376359 | Q21: Y | R21: JILL BARTON | S21: 55 | T21: 0410260021 | U21: Y | V21: NE | Z21: SCOTT GODLEY | AA21: 53 | AC21: Y | AD21: SV | AE21: Y
A22: 20 | B22: DOGS OF WAR | D22: JUSTIN KELLY | E22: 0439414882 | F22: 12 ALISON RD | G22: ATTADALE | H22: WA 6156 | I22: justin.kelly@woodgroup.com | J22: JUSTIN KELLY | K22: 39 | L22: 0439414882 | M22: Y | N22: JAMES RHYS | O22: 40 | P22: 0449231345 | Q22: Y | R22: KIM STANES | S22: 39 | T22: 0425625680 | U22: Y | Z22: ALEXANDER LOCKETT | AA22: 40 | AB22: 0475513203 | AC22: Y | AD22: OP | AE22: Y
A23: 21 | B23: WEST BRIDGETOWN WARRIORS 1 | D23: SARAH YOUNGSON | E23: 97612741 | F23: PO BOX 1201 | G23: BRIDGETOWN | H23: WA 6255 | I23: sarah.youngson@westnet.com.au | J23: REGAN CLARKE | K23: 18 | L23: 0428046707 | M23: Y | N23: TRISTAN CLARKE | O23: 20 | P23: 0477844861 | Q23: Y | R23: LACHLAN GARDNER | S23: 14 | T23: 0417902096 | U23: YY | V23: FRANCES LONGO | W23: 36 | X23: 0450656370 | Y23: Y | Z23: TRISTAN CLARKE | AA23: 20 | AB23: 0477844861 | AC23: Y | AD23: OP | AE23: Y
A24: 22 | B24: WEST BRIDGETOWN WARRIORS 2 | D24: SARAH YOUNGSON | E24: 97612741 | F24: PO BOX 1201 | G24: BRIDGETOWN | H24: WA 6255 | I24: sarah.youngson@westnet.com.au | J24: ANDREW HAAK | K24: 41 | L24: 0402036570 | M24: Y | N24: GREG DALE | O24: 42 | P24: 0410304342 | Q24: Y | R24: TIM HEWITT | S24: 46 | T24: 0424249530 | U24: Y | V24: SHAYNE CARTER | W24: 31 | X24: 0438108015 | Y24: Y | Z24: MAX JENSEN | AA24: 65 | AB24: 0418542400 | AC24: Y | AD24: OP | AE24: Y
A25: 23 | B25: WEST BRIDGETOWN WARRIORS 3 | D25: SARAH YOUNGSON | E25: 97612741 | F25: PO BOX 1201 | G25: BRIDGETOWN | H25: WA 6255 | I25: sarah.youngson@westnet.com.au | J25: SARAH YOUNGSON | K25: 46 | L25: 97612741 | M25: Y | N25: ANGUS YOUNGSON | O25: 56 | P25: 0416241633 | Q25: Y | R25: ALBERT HAAK | S25: 71 | T25: 0418479474 | U25: Y | V25: DEBRA CHAPMAN | W25: 55 | X25: 0499976995 | Y25: Y | Z25: NIC FABISZAK | AA25: 47 | AB25: 0478616802 | AC25: Y | AD25: VE
A26: 24 | B26: WEST BRIDGETOWN WARRIORS 4 | D26: SARAH YOUNGSON | E26: 97612741 | F26: PO BOX 1201 | G26: BRIDGETOWN | H26: WA 6255 | I26: sarah.youngson@westnet.com.au | J26: BEN CLARKE | K26: 14 | L26: 0477844861 | M26: YY | N26: DAVID MOYES | O26: 55 | P26: 0488553667 | Q26: Y | R26: STEVE MASTERS | S26: 62 | T26: 0419957116 | U26: Y | V26: LAURIE CLARKE | W26: 60 | X26: 0400491240 | Y26: Y | Z26: SHARON GARDNER | AA26: 45 | AB26: 0417902096 | AC26: Y | AD26: OP | AE26: Y
A27: 25 | B27: WEST BRIDGETOWN WARRIORS 5 | D27: SARAH YOUNGSON | E27: 97612741 | F27: PO BOX 1201 | G27: BRIDGETOWN | H27: WA 6255 | I27: sarah.youngson@westnet.com.au | J27: FIONA DUYVESTEIN | K27: 48 | L27: 0417886680 | M27: Y | N27: LLOYD POWELL | O27: 52 | P27: 0414476015 | Q27: Y | R27: KATIE MASTERS | S27: 34 | T27: 0419957116 | U27: Y | V27: MATILDA O'NEILL | W27: 15 | X27: 0481463089 | Y27: YY | Z27: NIGEL CHESTERFIELD-EVANS | AA27: 65 | AB27: 0417172265 | AC27: Y | AD27: OP
A28: 26 | B28: EASIER SAID THAN RUN | C28: Y | D28: KATE SMITH | E28: 0458367637 | F28: 36B BLACKWALL REACH PDE | G28: BICTON | H28: WA 6157 | I28: kate.smith@westnet.com.au | J28: KRISTINE RICCI | K28: 51 | L28: 0414851384 | M28: Y | N28: TONY SMITH | O28: 44 | P28: 0409859866 | Q28: Y | R28: KRISTINE RICCI | S28: 51 | T28: 0414851384 | U28: Y | V28: TONY BOOKER | W28: 51 | X28: 0412299016 | Y28: Y | Z28: KATE SMITH | AA28: 42 | AB28: 0458367637 | AC28: Y | AD28: VE | AE28: Y | AF28: claremont therapuetic riding centre (M'liss)
A29: 27 | B29: SCRAMBLED LEGGS | C29: Y | D29: HANNAH EDGECOMBE | E29: 0488980654 | F29: 2/201 COODE ST | G29: COMO | H29: WA 6102 | I29: hedgecombe41700@gmail.com | J29: HANNAH EDGECOMBE | K29: 20 | L29: 0488980654 | M29: Y | N29: JAMES CAMERON | O29: 21 | P29: 0430066335 | Q29: Y | R29: GRACE TAYLOR | S29: 21 | T29: 0417978724 | U29: Y | V29: NE | Z29: WILL REGAN | AA29: 20 | AB29: 0488774053 | AC29: Y | AD29: OP | AE29: Y
A30: 28 | B30: WELL DRAPED BODS | D30: COURTNEY DRAPER | E30: 0408940691 | F30: 910 TRAYLEN RD | G30: STONEVILLE | H30: WA 6081 | I30: courtney.draper@gmail.com | J30: COURTNEY DRAPER | K30: 36 | L30: 0408940691 | M30: Y | N30: BRENDAN WELKER | O30: 43 | P30: 0430191071 | Q30: Y | R30: KARL WELKER | S30: 41 | T30: 0433748002 | U30: Y | V30: NE | Z30: MATT BOYD | AA30: 34 | AB30: 0421840984 | AC30: Y | AD30: OP | AE30: Y
A31: 29 | B31: DARKAN PNUTS | D31: NATHAN CUTHBERT | E31: 0459160702 | F31: LOT 135 COALFIELD RD | G31: DARKAN | H31: WA 6392 | I31: nathan.cuthbert@landmark.com.au | J31: NATHAN CUTHBERT | K31: 44 | L31: 0459160702 | M31: Y | N31: DEAN KING | O31: 40 | P31: 0427809960 | Q31: Y | R31: RYAN WILKE | S31: 40 | T31: 0429361104 | U31: Y | V31: NE | Z31: SCOTT EWEN | AA31: 43 | AB31: 0427361227 | AC31: Y | AD31: VE | AE31: Y
A32: 30 | B32: DARKAN NO NUTS | D32: MELANIE EWEN | E32: 0429361227 | F32: PO BOX 44 | G32: DARKAN | H32: WA 6392 | I32: ewens@bluegums.net | J32: MELANIE EWEN | K32: 41 | L32: 0429361227 | M32: Y | N32: MELISSA WILKIE | O32: 37 | P32: 0408914052 | Q32: Y | R32: KYM GIBBS | S32: 39 | T32: 0428250642 | U32: Y | V32: NE | Z32: JOANNE KING | AA32: 39 | AB32: 0408185973 | AC32: Y | AD32: LV | AE32: Y
A33: 31 | B33: TEAM CHAMPERS | D33: LAUREN HOSSELL | E33: 0407072696 | F33: 7 PARK CLOSE | G33: GREENWOOD | H33: WA 6024 | I33: laurenmhossell@gmail.com | J33: ALANA PATISON | K33: 40 | L33: 0415772235 | M33: Y | N33: ROBERT HOSSELL | O33: 46 | Q33: Y | R33: LAUREN HOSSELL | S33: 36 | T33: 0407072696 | U33: Y | V33: JANE HOSSELL | W33: 61 | X33: 0417935841 | Y33: Y | Z33: STUART PEARCE | AA33: 42 | AB33: 0438920074 | AC33: Y | AD33: OP | AE33: Y
A34: 32 | B34: LUNACHICKS | D34: KATE MARTIN | E34: 0421028730 | F34: 150 SMITH ROAD | G34: BULLSBROOK | H34: WA 6080 | I34: kathera@hotmail.com | J34: SAM HUMBERSTONE | K34: 40 | L34: 0433088383 | M34: Y | N34: KATE MARTIN | O34: 40 | P34: 0421028730 | Q34: Y | R34: TORI DEWAR | S34: 28 | T34: 0402528215 | U34: Y | V34: ANN-MAREE WASLEY | W34: 38 | X34: 0422894919 | Y34: Y | Z34: KAT KINGSLEY | AA34: 29 | AB34: 0434875518 | AC34: Y | AD34: WO | AE34: Y
A35: 33 | B35: TWO CANS OF COURAGE | C35: Y | D35: CARLENE DAVIDSON | E35: 0431284135 | F35: 40 NORMA RD | G35: ALFRED COVE | H35: WA 6154 | I35: carlene@iinet.net.au | J35: LISA CALLAGHAN | K35: 35 | L35: 0422169622 | M35: Y | N35: MATT CALLAGHAN | O35: 39 | P35: 0478632090 | Q35: Y | R35: CARLENE DAVIDSON | S35: 52 | T35: 0431284135 | U35: Y | V35: NE | Z35: DARREN CHAPMAN | AA35: 36 | AB35: 0427673047 | AC35: Y | AD35: OP | AE35: Y
A36: 34 | B36: COUNTRY WARRIORS | D36: LIESL SIMONS | E36: 0419919951 | F36: 27 CLIFFORD ST | G36: YORK | H36: WA 6302 | I36: lieslsimons@bigpond.com | J36: LIESL SIMONS | K36: 53 | L36: 0419919951 | M36: Y | N36: MICHAEL LEAHY | O36: 54 | Q36: Y | R36: KIARA SIMONS | S36: 16 | T36: 0437928401 | U36: YY | V36: MARYANNE PHILLIPS | W36: 55 | Y36: Y | Z36: MEEGAN FYFIELD | AA36: 41 | AB36: 0431862231 | AC36: Y | AD36: OP | AE36: Y
A37: 35 | B37: JUST KEEP SCRIMMIN | D37: GIVLIANA SCRIMGEOUR | E37: 0419957780 | F37: 96 WOOD ST | G37: INGLEWOOD | H37: WA 6053 | I37: clarebombers@hotmail.com | J37: CLARE RICE | K37: 40 | L37: 0487844216 | M37: Y | N37: MEL (NINO) RICE | O37: 41 | P37: 0439391977 | Q37: Y | R37: LEWIS SCRIMGEOUR | S37: 15 | T37: 0466805567 | U37: YY | V37: NE | Z37: DAMON SCRIMGEOUR | AA37: 48 | AB37: 0403966411 | AC37: Y | AD37: OP | AE37: Y
A38: 36 | B38: TAG YOU ARE IT | D38: ROBYN BULL | E38: 0408704989 | F38: 8 COMET CORNER | G38: McKAIL | H38: WA 6330 | I38: robyn_11_7@hotmail.com | J38: REBECCA BATY | K38: 33 | L38: 0431114735 | M38: Y | N38: SARAH RADFORD | O38: 61 | P38: 0428066774 | Q38: Y | R38: MELISSA METTAM | S38: 32 | T38: 0448800835 | U38: Y | V38: SHIRLEY O'DONOGHUE | W38: 52 | X38: 0400733047 | Y38: Y | Z38: ROBYN BULL | AA38: 34 | AB38: 0408704989 | AC38: Y | AD38: OP | AE38: Y
A39: 37 | B39: BUTLERS ON BUTANE | C39: Y | D39: MARGARET BUTLER | E39: 0409994999 | F39: 7 ACACIA RD | G39: MAIDA VALE | H39: WA 6057 | I39: david02@westnet.com.au | J39: DAVID BUTLER | K39: 44 | L39: 0439924963 | M39: Y | N39: DAVID BUTLER | O39: 44 | P39: 0439924963 | Q39: Y | R39: VICKI BUTLER | S39: 44 | T39: 0407998829 | U39: Y | V39: NE | Z39: WENDY BUTLER | AA39: 41 | AB39: 0409109218 | AC39: Y | AD39: OP | AE39: Y
A40: 38 | B40: BEATING AROUND THE BUSH | D40: ANNE SCHWENKENBECHER | E40: 0424939520 | F40: 64 CARR ST | G40: WEST PERTH | H40: WA 6005 | I40: a.schwenkenbecher@murdoch.edu.au | J40: ANN LEFROY | K40: 39 | L40: 0400301855 | M40: Y | N40: ROHAN SADLER | O40: 47 | P40: 0433192600 | Q40: Y | R40: TIM FLANAGAN | S40: 39 | T40: 0451979015 | U40: Y | V40: ANNE SCHWENKENBECHER | W40: 41 | X40: 0424939520 | Y40: Y | Z40: YOHEI OKAMOTO | AA40: 34 | AB40: 0412904113 | AC40: Y | AD40: OP | AE40: Y
...

Sheet 2018
A1: No. | B1: TEAM NAME | C1: Paid | D1: MANAGERS | E1: PHONE | F1: ADDRESS1 | G1: ADDRESS2 | H1: ADDRESS3 | I1: EMAIL | J1: RUNNER | N1: CANOE | R1: SWIM | V1: EQUESTRIAN | Z1: CYCLE | AD1: CAT | AE1: SIGN | AF1: NOTES | AG1: HOW PAY | AH1: THOROUGHBRED | AI1: THOROUGHBRED | AJ1: STANDARDBRED | AK1: STANDARDBRED | AL1: CLUB
B2: 43399 | J2: SURNAME | K2: AGE | L2: PHONE | M2: SIGN | N2: SURNAME | O2: AGE | P2: PHONE | Q2: SIGN | R2: SURNAME | S2: AGE | T2: PHONE | U2: SIGN | V2: SURNAME | W2: AGE | X2: PHONE | Y2: SIGN | Z2: SURNAME | AA2: AGE | AB2: PHONE | AC2: SIGN | AH2: NAME | AI2: BRAND | AJ2: NAME | AK2: BRAND
A3: 1 | B3: BRIDGETOWN TEARAWAYS | C3: Y | D3: RIC WHEATLEY | E3: 0427501207 | F3: 1584 WINNEJUP RD | G3: BRIDGETOWN | H3: WA 6255 | I3: apwheatley@bigpond.com | J3: KATHERINE ROSINSKI | K3: 68 | L3: 97721240 | M3: Y | N3: MARTY WALLACE | P3: 0417904842 | Q3: Y | R3: ANDREW HICKEY | S3: 57 | T3: 0419924993 | V3: RIC WHEATLEY | W3: 64 | X3: 97617507 | Y3: Y | Z3: BARRY SHEPHARD | AA3: 73 | AB3: 97611171 | AC3: Y | AD3: SV | AE3: Y | AJ3: KEVIN
A4: 2 | B4: RUSTY IRONMEN BLUE | C4: Y | D4: CLIVE CHOATE | E4: 0422124908 | F4: 16 KEPPEL MEWS | G4: HALLS HEAD | H4: WA 6210 | I4: choate@westnet.com.au | J4: JIM LANGFORD | M4: Y | N4: MATT RITIKIS | O4: 54 | Q4: Y | R4: ETHAN NORRIS | S4: 47 | U4: Y | V4: LINDA YATES | Y4: Y | Z4: IAN WOOKEY | AA4: 68 | AC4: Y | AD4: SV | AE4: Y
A5: 3 | B5: RUSTY IRONMEN RED | C5: Y | D5: CLIVE CHOATE | E5: 0422124908 | F5: 16 KEPPEL MEWS | G5: HALLS HEAD | H5: WA 6210 | I5: choate@westnet.com.au | J5: STEPHEN BROWN | K5: 57 | M5: Y | N5: CHRIS BOOCOCK | Q5: Y | R5: JULIA NORRIS | S5: 45 | U5: Y | V5: MICHAEL BUTLER | Y5: Y | Z5: STEELE BISHOP | AA5: 65 | AC5: N | AD5: SV | AE5: Y | AH5: FRAPPA | AL5: BROOK HUNT CLUB
A6: 4 | B6: RUSTY IRONMEN GREEN | C6: Y | D6: CLIVE CHOATE | E6: 0422124908 | F6: 16 KEPPEL MEWS | G6: HALLS HEAD | H6: WA 6210 | I6: choate@westnet.com.au | J6: JULIE BOYD | M6: Y | N6: JOHN REYNOLDS | Q6: Y | R6: JUSTIN HARRIS | U6: Y | V6: BOBBY SPENCE | Y6: Y | Z6: DALE WESLEY | AC6: Y | AD6: SV | AE6: Y
A7: 5 | B7: 50 IS THE NEW 30 | C7: Y | D7: JANE WHEELER | E7: 0427717959 | F7: PO BOX 558 | G7: BRIDGETOWN | H7: WA 6255 | I7: wheelerjane29@gmail.com | J7: KAREN ROYER | K7: 57 | L7: 0457190545 | M7: Y | N7: ALISON WHEATLEY | O7: 58 | P7: 0427617507 | Q7: Y | R7: JANE WHEELER | S7: 55 | T7: 0427717959 | U7: Y | V7: RAYLENE WATSON | W7: 54 | Z7: LINDA VOWLES | AA7: 54 | AB7: 0417588651 | AC7: Y | AD7: SL | AE7: Y | AL7: WEARA
A8: 6 | B8: RUSTY IRONMEN BLACK | C8: Y | D8: CLIVE CHOATE | E8: 0422124908 | F8: 16 KEPPEL MEWS | G8: HALLS HEAD | H8: WA 6210 | I8: choate@westnet.com.au | J8: STEVE WISEMAN | M8: Y | N8: GRANT TOMLINSON | Q8: Y | R8: ERICA THOMAS | U8: Y | V8: SAMANTHA CLEVELAND | Y8: Y | Z8: MARK HOOKWAY | AC8: Y | AD8: VE
A9: 7 | B9: GEEGEELUP RACERS | C9: Y | D9: MICK DEWING | E9: 041790398 | F9: PO BOX 257 | G9: BRIDGETOWN | H9: WA 6255 | I9: mdewing@iinet.net.au | J9: CAMERON BARKER | K9: 33 | L9: 0421451167 | M9: Y | N9: MICK DEWING | O9: 68 | P9: 0417903987 | Q9: Y | R9: JOHN MONCRIEFF | S9: 67 | T9: 0432105754 | U9: Y | V9: KEELY ANGEL | W9: 17 | X9: 97612215 | Y9: Y | Z9: MIKE VAN DUIJNHOVEN | AA9: 70 | AB9: 0428327366 | AC9: Y | AD9: OP | AE9: Y
A10: 8 | B10: HAVANA CLUB | C10: Y | D10: GLEN HOLST | E10: 0419850643 | F10: PO BOX 120 | G10: BRIDGETOWN | H10: WA 6255 | I10: admin@glenholst.com.au | J10: AMBROSE FOLEY | K10: 18 | L10: 0467266545 | M10: Y | N10: GLEN HOLST | O10: 57 | P10: 0419850643 | Q10: Y | R10: JULIAN MILLS | S10: 54 | T10: 0418942535 | U10: Y | V10: EMMA PANIZZA | W10: 30 | X10: 0428740442 | Y10: Y | Z10: CLAUDE QUINONES | AA10: 60 | AB10: 0410479452 | AC10: Y | AD10: OP
A11: 9 | B11: SMASHING KREBS | C11: Y | D11: SHAUN FINCH | E11: 0421637669 | F11: PO BOX 180 | G11: BRIDGETOWN | H11: WA 6255 | I11: saf57@iinet.net.au | J11: DAVID FIELD | K11: 46 | L11: 0417173549 | M11: Y | N11: TIM MULCAHY | O11: 45 | P11: 0418489710 | Q11: Y | R11: JOHANNA VAN ROOYEN | S11: 45 | T11: 0414854864 | U11: Y | V11: AARON BAZELEY | W11: 43 | X11: 0418238231 | Y11: Y | Z11: MIKE HOAR | AA11: 45 | AB11: 97611222 | AC11: Y | AD11: VE | AE11: Y | AG11: EFT | AH11: TOSS AND SPIN(IMABUTU | AI11: G P 9/7(Lazy g ow 139/7)
A12: 10 | B12: RUSTY IRONMEN GOLD | C12: Y | D12: CLIVE CHOATE | E12: 0422124908 | F12: 16 KEPPEL MEWS | G12: HALLS HEAD | H12: WA 6210 | I12: choate@westnet.com.au | J12: ROSS LANGFORD | M12: Y | N12: PAUL DEVONPORT | Q12: Y | R12: LYLE KILDEA | U12: Y | V12: LYNETTE AVINS | Y12: Y | Z12: ADRIAN PERRY | AC12: Y | AD12: VE | AE12: Y
A13: 11 | B13: FIVE ABREAST | D13: DIANNE HOLLETT | E13: 0431184436 | F13: PO BOX 249 | G13: BRIDGETOWN | H13: WA 6255 | I13: bigholl@westnet.com.au | J13: DIANE HOLLETT | K13: 57 | L13: 0431184436 | M13: Y | N13: LYN WHITNEY | O13: 63 | P13: 97611238 | Q13: Y | R13: KYLIE ENGLISH | S13: 53 | V13: VIKTORIA CHLAPIK | W13: 37 | X13: 0499143219 | Y13: Y | Z13: NICKY CAREY | AA13: 49 | AB13: 0468945626 | AC13: Y | AD13: SL | AE13: Y | AF13: Y | AH13: ROCK OF HONOUR | AL13: BROOK HUNT CLUB
A14: 12 | B14: TEAM ROAD KILL | C14: Y | D14: DANIEL THOMPSON | E14: 0400038618 | F14: UNIT 8/17 ALGA ST | G14: SCARBOROUGH | H14: WA 6019 | I14: djthompson100@gmail.com | J14: FRANCES CAULFIELD | K14: 29 | L14: 0429703719 | M14: Y | N14: DANIEL THOMPSON | O14: 28 | P14: 0400038618 | Q14: Y | R14: RASHEEN LEE | S14: 29 | T14: 427663641 | U14: Y | V14: N/A | Z14: BRENTON TIDOW | AA14: 29 | AB14: 0429009384 | AC14: Y | AD14: OP | AE14: Y | AG14: EFT
A15: 13 | B15: MUMS ON THE RUN | C15: Y | D15: STEPHANIE PARNELL | E15: 0430476460 | F15: 5 LAMB AVE | G15: BENTLEY | H15: WA 6102 | I15: stephanie.a.parnell@hotmail.com | J15: STEPHANIE PARNELL | K15: 36 | L15: 0430476460 | M15: Y | N15: SUE DEERING | O15: 44 | P15: 0414848712 | Q15: Y | R15: BIANCA BESTON | S15: 37 | T15: 0431719066 | U15: Y | V15: N/A | Z15: CHERIE LOMEN | AA15: 35 | AB15: 0420521340 | AC15: Y | AD15: WO | AE15: Y
